BEGIN:VCALENDAR
VERSION:2.0
PRODID:-//Weinhaus Michel - ECPv6.15.20//NONSGML v1.0//EN
CALSCALE:GREGORIAN
METHOD:PUBLISH
X-WR-CALNAME:Weinhaus Michel
X-ORIGINAL-URL:https://www.michel-wein.de
X-WR-CALDESC:Veranstaltungen für Weinhaus Michel
REFRESH-INTERVAL;VALUE=DURATION:PT1H
X-Robots-Tag:noindex
X-PUBLISHED-TTL:PT1H
BEGIN:VTIMEZONE
TZID:Europe/Berlin
BEGIN:DAYLIGHT
TZOFFSETFROM:+0100
TZOFFSETTO:+0200
TZNAME:CEST
DTSTART:20240331T010000
END:DAYLIGHT
BEGIN:STANDARD
TZOFFSETFROM:+0200
TZOFFSETTO:+0100
TZNAME:CET
DTSTART:20241027T010000
END:STANDARD
BEGIN:DAYLIGHT
TZOFFSETFROM:+0100
TZOFFSETTO:+0200
TZNAME:CEST
DTSTART:20250330T010000
END:DAYLIGHT
BEGIN:STANDARD
TZOFFSETFROM:+0200
TZOFFSETTO:+0100
TZNAME:CET
DTSTART:20251026T010000
END:STANDARD
BEGIN:DAYLIGHT
TZOFFSETFROM:+0100
TZOFFSETTO:+0200
TZNAME:CEST
DTSTART:20260329T010000
END:DAYLIGHT
BEGIN:STANDARD
TZOFFSETFROM:+0200
TZOFFSETTO:+0100
TZNAME:CET
DTSTART:20261025T010000
END:STANDARD
END:VTIMEZONE
BEGIN:VEVENT
DTSTART;TZID=Europe/Berlin:20250919T193000
DTEND;TZID=Europe/Berlin:20250919T220000
DTSTAMP:20260425T054409
CREATED:20250807T165854Z
LAST-MODIFIED:20250918T100653Z
UID:7409-1758310200-1758319200@www.michel-wein.de
SUMMARY:Buchtaufe des neuen Romans von und mit Helge Weichmann: „Schandweihe – Mächtige Gegner für Ernestine Nachtigall“
DESCRIPTION:Beginn 19:30 Uhr \nEinlass: 18:00 Uhr – Es werden bereits Speisen und Getränke serviert. \nEs gibt noch Karten an der Abendkasse! \nHier Eintrittskarten kaufen \nExklusiv im „Keller für Kenner“ \nEin Mord im Kreuzgang des Doms erschüttert Mainz. Historikerin Tinne und AZ-Reporter Elvis kommen einem Geheimnis auf die Spur\, das seit den Zeiten von Erzbischof Willigis in den Mauern des Gotteshauses verborgen liegt. \nPlötzlich geht es Schlag auf Schlag: Ein mysteriöser Psalm fällt ihnen in die Hände\, ein Feuer vernichtet die Notensammlung des Domchors\, eine radioaktive Substanz im Grundwasser versetzt die Menschen in Schrecken. \nAls die Ermittler die Zusammenhänge aufspüren\, geraten sie auf einmal selbst ins Fadenkreuz. Denn Willigis‘ Vermächtnis zieht Kreise bis nach Rom. \nKrimiautor Helge Weichmann lädt Buchbegeisterte und Leseratten ein\, bei der allerersten Lesung seines neuesten Krimis dabei zu sein. Historische Fakten und fiktionale Krimihandlung versprechen einen spannenden und humorvollen Abend – Überraschungen garantiert. www.helgeweichmann.de \nLesung: 12\,00€ \nEs gibt noch Karten an der Abendkasse! \nHier Eintrittskarten kaufen \n 
URL:https://www.michel-wein.de/weintermine/buchtaufe-des-neuen-romans-von-und-mit-helge-weichmann-schandweihe-maechtige-gegner-fuer-ernestine-nachtigall/
LOCATION:Weinhaus Michel\, Jakobsbergstr. 8\,\, Mainz\, 55116\, Deutschland
ATTACH;FMTTYPE=image/jpeg:https://www.michel-wein.de/wp-content/uploads/2025/08/Foto_Helge_Schandweihe-1-scaled.jpg
ORGANIZER;CN="Weinhaus Michel":MAILTO:info@michel-wein.de
END:VEVENT
END:VCALENDAR