BEGIN:VCALENDAR
VERSION:2.0
PRODID:-//Weinhaus Michel - ECPv6.15.20//NONSGML v1.0//EN
CALSCALE:GREGORIAN
METHOD:PUBLISH
X-WR-CALNAME:Weinhaus Michel
X-ORIGINAL-URL:https://www.michel-wein.de
X-WR-CALDESC:Veranstaltungen für Weinhaus Michel
REFRESH-INTERVAL;VALUE=DURATION:PT1H
X-Robots-Tag:noindex
X-PUBLISHED-TTL:PT1H
BEGIN:VTIMEZONE
TZID:Europe/Berlin
BEGIN:DAYLIGHT
TZOFFSETFROM:+0100
TZOFFSETTO:+0200
TZNAME:CEST
DTSTART:20230326T010000
END:DAYLIGHT
BEGIN:STANDARD
TZOFFSETFROM:+0200
TZOFFSETTO:+0100
TZNAME:CET
DTSTART:20231029T010000
END:STANDARD
BEGIN:DAYLIGHT
TZOFFSETFROM:+0100
TZOFFSETTO:+0200
TZNAME:CEST
DTSTART:20240331T010000
END:DAYLIGHT
BEGIN:STANDARD
TZOFFSETFROM:+0200
TZOFFSETTO:+0100
TZNAME:CET
DTSTART:20241027T010000
END:STANDARD
BEGIN:DAYLIGHT
TZOFFSETFROM:+0100
TZOFFSETTO:+0200
TZNAME:CEST
DTSTART:20250330T010000
END:DAYLIGHT
BEGIN:STANDARD
TZOFFSETFROM:+0200
TZOFFSETTO:+0100
TZNAME:CET
DTSTART:20251026T010000
END:STANDARD
END:VTIMEZONE
BEGIN:VEVENT
DTSTART;TZID=Europe/Berlin:20240919T180000
DTEND;TZID=Europe/Berlin:20240919T200000
DTSTAMP:20260426T022840
CREATED:20230919T170034Z
LAST-MODIFIED:20240611T123126Z
UID:5163-1726768800-1726776000@www.michel-wein.de
SUMMARY:"Entdeckt Mainz mit einem Schluck Genuss - Die perfekte Kombination aus Stadtführung und Weinverkostung!"
DESCRIPTION:Feiert mit uns das 40-jährige Jubiläum und erlebt unvergessliche Stadtführungen mit Best of Mainz und den Michels durch die Mainzer Altstadt zur Zitadelle. Taucht ein in die faszinierende Geschichte der Stadt\, während ihr an den schönsten Plätzen verweilt und spannende Anekdoten erfahrt. \nDoch das ist noch nicht alles! \nUnterwegs überraschen wir euch mit unseren „Weinpersönlichkeiten“. Ein kulturelles und kulinarisches Vergnügen für alle Genießer und Entdecker! \nDie Tour führt dann in unser Weinhaus wo wir weitere Weine verkosten und ihr den Abend gemütlich ausklingen lassen könnt. \nProst auf 40 Jahre Mainzer Weinhaus Michel! \nJetzt buchen unter: www.best-of-mainz.com/weintouren/ \nPreis: 49 €
URL:https://www.michel-wein.de/weintermine/entdeckt-mainz-mit-einem-schluck-genuss-die-perfekte-kombination-aus-stadtfuehrung-und-weinverkostung-3/
LOCATION:Stefanie Jung  | Best of Mainz Tour-Agentur\, Am Klostergarten 7\,\, Mainz\, 55116\, Deutschland
CATEGORIES:Weinprobe
ATTACH;FMTTYPE=image/jpeg:https://www.michel-wein.de/wp-content/uploads/2023/10/Veranstaltung_Weinhaus-Michel_Best-of-Mainz-Stadtfuehrung-scaled.jpg
END:VEVENT
BEGIN:VEVENT
DTSTART;TZID=Europe/Berlin:20240926T193000
DTEND;TZID=Europe/Berlin:20240926T220000
DTSTAMP:20260426T022840
CREATED:20231023T153549Z
LAST-MODIFIED:20240611T123132Z
UID:5153-1727379000-1727388000@www.michel-wein.de
SUMMARY:Die schönsten Meenzer Gassenhauer im Keller für Kenner
DESCRIPTION:Oliver Mager – immer 2x\, weil’s so mainzigartig ist! \nOliver Mager singt seine beliebten Mainz-Lieder und Songs\, die sich rund um das Leben drehen. Von der ersten Minute an singen alle Gäste begeistert seine Ohrwürmer und schunkeln \nbis in die Zugaben. En gude Schobbe Woi und Olivers Lieder\, mehr braucht ein guter Abend nicht. \nwww.oliver-mager.de \nEintritt: 25 €
URL:https://www.michel-wein.de/weintermine/die-schoensten-meenzer-gassenhauer-im-keller-fuer-kenner-3/
LOCATION:Weinhaus Michel\, Jakobsbergstr. 8\,\, Mainz\, 55116\, Deutschland
CATEGORIES:Konzert
ATTACH;FMTTYPE=image/jpeg:https://www.michel-wein.de/wp-content/uploads/2023/10/Veranstaltung_Weinhaus-Michel_Oli-Mager2-scaled-e1754597383459.jpg
END:VEVENT
BEGIN:VEVENT
DTSTART;TZID=Europe/Berlin:20240927T193000
DTEND;TZID=Europe/Berlin:20240927T220000
DTSTAMP:20260426T022840
CREATED:20230927T170019Z
LAST-MODIFIED:20240611T123014Z
UID:5155-1727465400-1727474400@www.michel-wein.de
SUMMARY:Die schönsten Meenzer Gassenhauer im Keller für Kenner
DESCRIPTION:Oliver Mager – immer 2x\, weil’s so mainzigartig ist! \nOliver Mager singt seine beliebten Mainz-Lieder und Songs\, die sich rund um das Leben drehen. Von der ersten Minute an singen alle Gäste begeistert seine Ohrwürmer und schunkeln \nbis in die Zugaben. En gude Schobbe Woi und Olivers Lieder\, mehr braucht ein guter Abend nicht. \nwww.oliver-mager.de \nEintritt: 25 €
URL:https://www.michel-wein.de/weintermine/die-schoensten-meenzer-gassenhauer-im-keller-fuer-kenner-4/
LOCATION:Weinhaus Michel\, Jakobsbergstr. 8\,\, Mainz\, 55116\, Deutschland
CATEGORIES:Konzert
ATTACH;FMTTYPE=image/jpeg:https://www.michel-wein.de/wp-content/uploads/2023/10/Veranstaltung_Weinhaus-Michel_Oli-Mager-scaled-e1754597474543.jpg
END:VEVENT
END:VCALENDAR