BEGIN:VCALENDAR
VERSION:2.0
PRODID:-//Weinhaus Michel - ECPv6.15.20//NONSGML v1.0//EN
CALSCALE:GREGORIAN
METHOD:PUBLISH
X-WR-CALNAME:Weinhaus Michel
X-ORIGINAL-URL:https://www.michel-wein.de
X-WR-CALDESC:Veranstaltungen für Weinhaus Michel
REFRESH-INTERVAL;VALUE=DURATION:PT1H
X-Robots-Tag:noindex
X-PUBLISHED-TTL:PT1H
BEGIN:VTIMEZONE
TZID:Europe/Berlin
BEGIN:DAYLIGHT
TZOFFSETFROM:+0100
TZOFFSETTO:+0200
TZNAME:CEST
DTSTART:20250330T010000
END:DAYLIGHT
BEGIN:STANDARD
TZOFFSETFROM:+0200
TZOFFSETTO:+0100
TZNAME:CET
DTSTART:20251026T010000
END:STANDARD
BEGIN:DAYLIGHT
TZOFFSETFROM:+0100
TZOFFSETTO:+0200
TZNAME:CEST
DTSTART:20260329T010000
END:DAYLIGHT
BEGIN:STANDARD
TZOFFSETFROM:+0200
TZOFFSETTO:+0100
TZNAME:CET
DTSTART:20261025T010000
END:STANDARD
BEGIN:DAYLIGHT
TZOFFSETFROM:+0100
TZOFFSETTO:+0200
TZNAME:CEST
DTSTART:20270328T010000
END:DAYLIGHT
BEGIN:STANDARD
TZOFFSETFROM:+0200
TZOFFSETTO:+0100
TZNAME:CET
DTSTART:20271031T010000
END:STANDARD
END:VTIMEZONE
BEGIN:VEVENT
DTSTART;TZID=Europe/Berlin:20260424T193000
DTEND;TZID=Europe/Berlin:20260424T220000
DTSTAMP:20260424T135622
CREATED:20250807T200651Z
LAST-MODIFIED:20260121T203505Z
UID:7454-1777059000-1777068000@www.michel-wein.de
SUMMARY:Legendär - Oli Mager im „Keller für Kenner“ (AUSGEBUCHT)
DESCRIPTION:„Verliebt in eine Stadt“ – der Mainzer Musiker Oliver Mager bei uns im Keller! \nBereits seit vielen Jahren kommt Oliver Mager zu uns in den „Keller für Kenner“ und singt\, gemeinsam mit begeisterten Gästen\, seine Gassenhauer („Wir sind Mainzer“\, „Moguntia“\, „Du bist en Meenzer“). \nIm Gepäck hat er jedoch auch immer ein paar neue Lieder. \nEin Abend mit den seinen schönsten Songs – garantiert mainzigartig! \nwww.oliver-mager.de \nKonzert: 28\,00€ \nHier Eintrittskarten kaufen \nBeginn 19:30 Uhr \nEinlass: 18:00 Uhr – Es werden bereits Speisen und Getränke serviert. \n 
URL:https://www.michel-wein.de/weintermine/legendaer-deshalb-gleich-zwei-termine-oli-mager-im-keller-fuer-kenner-2/
LOCATION:Weinhaus Michel\, Jakobsbergstr. 8\,\, Mainz\, 55116\, Deutschland
ATTACH;FMTTYPE=image/jpeg:https://www.michel-wein.de/wp-content/uploads/2023/10/Veranstaltung_Weinhaus-Michel_Oli-Mager2-scaled-e1754597383459.jpg
ORGANIZER;CN="Weinhaus Michel":MAILTO:info@michel-wein.de
END:VEVENT
BEGIN:VEVENT
DTSTART;TZID=Europe/Berlin:20260508T193000
DTEND;TZID=Europe/Berlin:20260508T220000
DTSTAMP:20260424T135622
CREATED:20250807T170631Z
LAST-MODIFIED:20260121T204912Z
UID:7415-1778268600-1778277600@www.michel-wein.de
SUMMARY:KONZERT-TIPP: MAFALDA mit ihrem Programm „FLANIEREN“
DESCRIPTION:Renate Kohl und ihre Damenband MAFALDA begeben sich an diesem besonderen Abend auf einen musikalischen Roadtrip von Ort zu Ort\, flanieren absichtslos und ohne Ziel durch die Tage. Herrenabteilung im Kaufhaus\, Mühen mit der Deutsche Bahn und Einparken mit Kleinwagen… \nSo abenteuerlich und vielfältig die Themen\, so virtuos und spannungsreich der Mix aus Swing\, Bossa\, Wiener Walzer und Polka. \nRenate Kohl (Gesang\, Saxofon\, Konzept)\, Anna Korbut (Piano)\, Lindy Huppertsberg (Kontrabass) \nAntje Bockel (Posaune\, Melodica\, Quetschkommode)\, Cordula Groß (Percussion) \nKonzert: 25\,00€ \nHier Eintrittskarten kaufen \nBeginn 19:30 Uhr \nEinlass: 18:00 Uhr – Es werden bereits Speisen und Getränke serviert.
URL:https://www.michel-wein.de/weintermine/die-virtuose-frauenband-mafalda-mit-ihrem-neuen-programm-flanieren/
LOCATION:Weinhaus Michel\, Jakobsbergstr. 8\,\, Mainz\, 55116\, Deutschland
CATEGORIES:Konzert
ATTACH;FMTTYPE=image/jpeg:https://www.michel-wein.de/wp-content/uploads/2025/08/Mafalda-1-1.jpg
ORGANIZER;CN="Weinhaus Michel":MAILTO:info@michel-wein.de
END:VEVENT
END:VCALENDAR