BEGIN:VCALENDAR
VERSION:2.0
PRODID:-//Weinhaus Michel - ECPv6.15.20//NONSGML v1.0//EN
CALSCALE:GREGORIAN
METHOD:PUBLISH
X-WR-CALNAME:Weinhaus Michel
X-ORIGINAL-URL:https://www.michel-wein.de
X-WR-CALDESC:Veranstaltungen für Weinhaus Michel
REFRESH-INTERVAL;VALUE=DURATION:PT1H
X-Robots-Tag:noindex
X-PUBLISHED-TTL:PT1H
BEGIN:VTIMEZONE
TZID:Europe/Berlin
BEGIN:DAYLIGHT
TZOFFSETFROM:+0100
TZOFFSETTO:+0200
TZNAME:CEST
DTSTART:20250330T010000
END:DAYLIGHT
BEGIN:STANDARD
TZOFFSETFROM:+0200
TZOFFSETTO:+0100
TZNAME:CET
DTSTART:20251026T010000
END:STANDARD
BEGIN:DAYLIGHT
TZOFFSETFROM:+0100
TZOFFSETTO:+0200
TZNAME:CEST
DTSTART:20260329T010000
END:DAYLIGHT
BEGIN:STANDARD
TZOFFSETFROM:+0200
TZOFFSETTO:+0100
TZNAME:CET
DTSTART:20261025T010000
END:STANDARD
BEGIN:DAYLIGHT
TZOFFSETFROM:+0100
TZOFFSETTO:+0200
TZNAME:CEST
DTSTART:20270328T010000
END:DAYLIGHT
BEGIN:STANDARD
TZOFFSETFROM:+0200
TZOFFSETTO:+0100
TZNAME:CET
DTSTART:20271031T010000
END:STANDARD
END:VTIMEZONE
BEGIN:VEVENT
DTSTART;TZID=Europe/Berlin:20260313T193000
DTEND;TZID=Europe/Berlin:20260313T220000
DTSTAMP:20260424T204543
CREATED:20250807T175350Z
LAST-MODIFIED:20260121T204439Z
UID:7434-1773430200-1773439200@www.michel-wein.de
SUMMARY:Geisterstunde mit Helge Weichmann: Freitag der 13. – Zeit für einen „geist“reichen Mitmach-Krimi mit Weinprobe (AUSGEBUCHT)
DESCRIPTION:Freude in Michels Gewölbekeller: Eine historische Handschrift beweist\, dass der „Keller für Kenner“ noch viel älter ist als gedacht. Die Feierstunde gerät aber rasch aus den Fugen\, denn die Geister der Vergangenheit mischen tüchtig mit… \nDie Gäste der Weinprobe übernehmen sämtliche Rollen im Gruselschauspiel: die Spukgestalten\, die trinkfesten Ritter der Tafelrunde\, die rheinhessischen Ghostbusters\, sogar die Standuhr muss verkörpert werden. \nUnter Anleitung von Krimi-Altmeister Helge Weichmann wagen sich alle an die Lösung eines komplizierten Falls\, der zurückgeht bis in Gutenbergs Zeiten. Dabei gilt: Improvisation ist Trumpf\, und ohne gute Wein geht gar nichts! www.helgeweichmann.de \nMitmach-Krimi mit 4er-Weinprobe: 45\,00 € \nHier Eintrittskarten kaufen \nBeginn 19:30 Uhr \nEinlass: 18:00 Uhr – Es werden bereits Speisen und Getränke serviert.
URL:https://www.michel-wein.de/weintermine/geisterstunde-mit-helge-weichmann-freitag-der-13-zeit-fuer-einen-geistreichen-mitmach-krimi-mit-weinprobe/
LOCATION:Weinhaus Michel\, Jakobsbergstr. 8\,\, Mainz\, 55116\, Deutschland
ATTACH;FMTTYPE=image/jpeg:https://www.michel-wein.de/wp-content/uploads/2025/08/Foto_Helge_Mitmachkrimi_2026_Version1-1-scaled.jpg
ORGANIZER;CN="Weinhaus Michel":MAILTO:info@michel-wein.de
END:VEVENT
END:VCALENDAR