BEGIN:VCALENDAR
VERSION:2.0
PRODID:-//Weinhaus Michel - ECPv6.15.20//NONSGML v1.0//EN
CALSCALE:GREGORIAN
METHOD:PUBLISH
X-ORIGINAL-URL:https://www.michel-wein.de
X-WR-CALDESC:Veranstaltungen für Weinhaus Michel
REFRESH-INTERVAL;VALUE=DURATION:PT1H
X-Robots-Tag:noindex
X-PUBLISHED-TTL:PT1H
BEGIN:VTIMEZONE
TZID:Europe/Berlin
BEGIN:DAYLIGHT
TZOFFSETFROM:+0100
TZOFFSETTO:+0200
TZNAME:CEST
DTSTART:20250330T010000
END:DAYLIGHT
BEGIN:STANDARD
TZOFFSETFROM:+0200
TZOFFSETTO:+0100
TZNAME:CET
DTSTART:20251026T010000
END:STANDARD
BEGIN:DAYLIGHT
TZOFFSETFROM:+0100
TZOFFSETTO:+0200
TZNAME:CEST
DTSTART:20260329T010000
END:DAYLIGHT
BEGIN:STANDARD
TZOFFSETFROM:+0200
TZOFFSETTO:+0100
TZNAME:CET
DTSTART:20261025T010000
END:STANDARD
BEGIN:DAYLIGHT
TZOFFSETFROM:+0100
TZOFFSETTO:+0200
TZNAME:CEST
DTSTART:20270328T010000
END:DAYLIGHT
BEGIN:STANDARD
TZOFFSETFROM:+0200
TZOFFSETTO:+0100
TZNAME:CET
DTSTART:20271031T010000
END:STANDARD
END:VTIMEZONE
BEGIN:VEVENT
DTSTART;TZID=Europe/Berlin:20260227T193000
DTEND;TZID=Europe/Berlin:20260227T220000
DTSTAMP:20260424T205513
CREATED:20250807T174533Z
LAST-MODIFIED:20260121T204140Z
UID:7428-1772220600-1772229600@www.michel-wein.de
SUMMARY:KONZERT-TIPP: The Rockademics "Hauptsache der Spaß rockt"!
DESCRIPTION:Vier Musiker aus dem Rhein-Main Gebiet rocken Michels Keller! \n„The Rockademics” – Live! Lustig! Handgemacht! \nDie bandtypische Art\, Musik zu machen\, ist schnell erzählt. Regelmäßig kommt eins der vier Bandmitglieder mit seinem ganz eigenen Musikgeschmack in den Proberaum\, schlägt ein Stück vor und die Band gibt jedem ihren persönlichen Stempel. Coverband? – Veredelungsband! \nGregor (Bass\, Gesang)\, Stephan (Gitarre\, Gesang)\, Hanns (Tasten\, Perkussion und Gesang)\, Felix (Schlagzeug) \nhttp://www.rockademics.de \nKonzert: 22\,00 € \nHier Eintrittskarten kaufen \nBeginn 19:30 Uhr \nEinlass: 18:00 Uhr – Es werden bereits Speisen und Getränke serviert.
URL:https://www.michel-wein.de/weintermine/the-rockademics-live-lustig-handgemacht/
LOCATION:Weinhaus Michel\, Jakobsbergstr. 8\,\, Mainz\, 55116\, Deutschland
ATTACH;FMTTYPE=image/jpeg:https://www.michel-wein.de/wp-content/uploads/2025/08/Rockademics.jpg
ORGANIZER;CN="Weinhaus Michel":MAILTO:info@michel-wein.de
END:VEVENT
END:VCALENDAR