BEGIN:VCALENDAR
VERSION:2.0
PRODID:-//Weinhaus Michel - ECPv6.15.20//NONSGML v1.0//EN
CALSCALE:GREGORIAN
METHOD:PUBLISH
X-WR-CALNAME:Weinhaus Michel
X-ORIGINAL-URL:https://www.michel-wein.de
X-WR-CALDESC:Veranstaltungen für Weinhaus Michel
REFRESH-INTERVAL;VALUE=DURATION:PT1H
X-Robots-Tag:noindex
X-PUBLISHED-TTL:PT1H
BEGIN:VTIMEZONE
TZID:Europe/Berlin
BEGIN:DAYLIGHT
TZOFFSETFROM:+0100
TZOFFSETTO:+0200
TZNAME:CEST
DTSTART:20250330T010000
END:DAYLIGHT
BEGIN:STANDARD
TZOFFSETFROM:+0200
TZOFFSETTO:+0100
TZNAME:CET
DTSTART:20251026T010000
END:STANDARD
BEGIN:DAYLIGHT
TZOFFSETFROM:+0100
TZOFFSETTO:+0200
TZNAME:CEST
DTSTART:20260329T010000
END:DAYLIGHT
BEGIN:STANDARD
TZOFFSETFROM:+0200
TZOFFSETTO:+0100
TZNAME:CET
DTSTART:20261025T010000
END:STANDARD
BEGIN:DAYLIGHT
TZOFFSETFROM:+0100
TZOFFSETTO:+0200
TZNAME:CEST
DTSTART:20270328T010000
END:DAYLIGHT
BEGIN:STANDARD
TZOFFSETFROM:+0200
TZOFFSETTO:+0100
TZNAME:CET
DTSTART:20271031T010000
END:STANDARD
END:VTIMEZONE
BEGIN:VEVENT
DTSTART;TZID=Europe/Berlin:20260214T161100
DTEND;TZID=Europe/Berlin:20260214T161100
DTSTAMP:20260424T224541
CREATED:20250807T171102Z
LAST-MODIFIED:20260121T201538Z
UID:7422-1771085460-1771085460@www.michel-wein.de
SUMMARY:Fastnachts-Samstag "Legendär!"
DESCRIPTION:Wir haben ab 16:11 Uhr geöffnet. \nEin absolutes Highlight – tanzt\, singt und feiert mit uns durch den Abend! \nWir nehmen über die Fastnachtstage keine Reservierungen an. \nEintrittsbändchen gibt es direkt bei uns an der Tageskasse. \nFür ein sicheres Feiern nehmen wir 10\,00 € Eintritt. \nHELAU!!!
URL:https://www.michel-wein.de/weintermine/fastnachts-samstag-legendaer/
LOCATION:Weinhaus Michel\, Jakobsbergstr. 8\,\, Mainz\, 55116\, Deutschland
ATTACH;FMTTYPE=image/jpeg:https://www.michel-wein.de/wp-content/uploads/2024/02/Weinhaus-Michel_Fastnacht-scaled-e1754597952973.jpg
ORGANIZER;CN="Weinhaus Michel":MAILTO:info@michel-wein.de
END:VEVENT
END:VCALENDAR