BEGIN:VCALENDAR
VERSION:2.0
PRODID:-//Weinhaus Michel - ECPv6.15.20//NONSGML v1.0//EN
CALSCALE:GREGORIAN
METHOD:PUBLISH
X-ORIGINAL-URL:https://www.michel-wein.de
X-WR-CALDESC:Veranstaltungen für Weinhaus Michel
REFRESH-INTERVAL;VALUE=DURATION:PT1H
X-Robots-Tag:noindex
X-PUBLISHED-TTL:PT1H
BEGIN:VTIMEZONE
TZID:Europe/Berlin
BEGIN:DAYLIGHT
TZOFFSETFROM:+0100
TZOFFSETTO:+0200
TZNAME:CEST
DTSTART:20250330T010000
END:DAYLIGHT
BEGIN:STANDARD
TZOFFSETFROM:+0200
TZOFFSETTO:+0100
TZNAME:CET
DTSTART:20251026T010000
END:STANDARD
BEGIN:DAYLIGHT
TZOFFSETFROM:+0100
TZOFFSETTO:+0200
TZNAME:CEST
DTSTART:20260329T010000
END:DAYLIGHT
BEGIN:STANDARD
TZOFFSETFROM:+0200
TZOFFSETTO:+0100
TZNAME:CET
DTSTART:20261025T010000
END:STANDARD
BEGIN:DAYLIGHT
TZOFFSETFROM:+0100
TZOFFSETTO:+0200
TZNAME:CEST
DTSTART:20270328T010000
END:DAYLIGHT
BEGIN:STANDARD
TZOFFSETFROM:+0200
TZOFFSETTO:+0100
TZNAME:CET
DTSTART:20271031T010000
END:STANDARD
END:VTIMEZONE
BEGIN:VEVENT
DTSTART;TZID=Europe/Berlin:20260212T141100
DTEND;TZID=Europe/Berlin:20260212T141100
DTSTAMP:20260424T223748
CREATED:20250807T170821Z
LAST-MODIFIED:20260123T202740Z
UID:7419-1770905460-1770905460@www.michel-wein.de
SUMMARY:Weiberfastnacht - "Die Mädels sind los!"
DESCRIPTION:Wir sind ab 14:11 Uhr für Euch am Start! \nGenießt mit uns in die heiße Fastnachtsphase! \nWir nehmen über die Fastnachtstage keine Reservierungen an. \nEintrittsbändchen gibt es ab 14:00 Uhr bei uns an der Tageskasse. \nFür ein sicheres Feiern nehmen wir 10\,00 € Eintritt. \nHELAU!!!
URL:https://www.michel-wein.de/weintermine/weiberfastnacht-die-maedels-sinn-los/
LOCATION:Weinhaus Michel\, Jakobsbergstr. 8\,\, Mainz\, 55116\, Deutschland
ATTACH;FMTTYPE=image/jpeg:https://www.michel-wein.de/wp-content/uploads/2023/10/Veranstaltung_Weinhaus-Michel_Fastnacht_11-11-scaled-e1754597825766.jpg
ORGANIZER;CN="Weinhaus Michel":MAILTO:info@michel-wein.de
END:VEVENT
END:VCALENDAR