BEGIN:VCALENDAR
VERSION:2.0
PRODID:-//Weinhaus Michel - ECPv6.15.20//NONSGML v1.0//EN
CALSCALE:GREGORIAN
METHOD:PUBLISH
X-WR-CALNAME:Weinhaus Michel
X-ORIGINAL-URL:https://www.michel-wein.de
X-WR-CALDESC:Veranstaltungen für Weinhaus Michel
REFRESH-INTERVAL;VALUE=DURATION:PT1H
X-Robots-Tag:noindex
X-PUBLISHED-TTL:PT1H
BEGIN:VTIMEZONE
TZID:Europe/Berlin
BEGIN:DAYLIGHT
TZOFFSETFROM:+0100
TZOFFSETTO:+0200
TZNAME:CEST
DTSTART:20240331T010000
END:DAYLIGHT
BEGIN:STANDARD
TZOFFSETFROM:+0200
TZOFFSETTO:+0100
TZNAME:CET
DTSTART:20241027T010000
END:STANDARD
BEGIN:DAYLIGHT
TZOFFSETFROM:+0100
TZOFFSETTO:+0200
TZNAME:CEST
DTSTART:20250330T010000
END:DAYLIGHT
BEGIN:STANDARD
TZOFFSETFROM:+0200
TZOFFSETTO:+0100
TZNAME:CET
DTSTART:20251026T010000
END:STANDARD
BEGIN:DAYLIGHT
TZOFFSETFROM:+0100
TZOFFSETTO:+0200
TZNAME:CEST
DTSTART:20260329T010000
END:DAYLIGHT
BEGIN:STANDARD
TZOFFSETFROM:+0200
TZOFFSETTO:+0100
TZNAME:CET
DTSTART:20261025T010000
END:STANDARD
END:VTIMEZONE
BEGIN:VEVENT
DTSTART;TZID=Europe/Berlin:20250403T193000
DTEND;TZID=Europe/Berlin:20250403T220000
DTSTAMP:20260425T163346
CREATED:20241126T181937Z
LAST-MODIFIED:20241127T111742Z
UID:7076-1743708600-1743717600@www.michel-wein.de
SUMMARY:Das Michel’sche Woi-Quiz geht in die zweite Runde!
DESCRIPTION:Das „Woi-Quiz“ geht in die zweite Runde! Krimi-Autor Helge Weichmann lädt wieder zu einem spannenden und witzigen Rätselabend ein: Bilderstrudel\, Filmstopp\, Wortpuzzle\, Promi-Raten\, kuriose Fragen zum Weinhaus Michel und viele weitere Spiele stehen auf dem Programm. Die einzelnen Tische treten gegeneinander an\, um ihr Wissen rund um den Rebensaft unter Beweis zu stellen. Dass es dabei laut und lustig zugeht\, versteht sich von selbst. Am Ende des Abends zeigt sich dann\, welche Tischgruppe es aufs Siegertreppchen geschafft hat. Prost! \nwww.helgeweichmann.de \nEintritt: 20\,00 €
URL:https://www.michel-wein.de/weintermine/das-michelsche-woi-quiz/
CATEGORIES:Sonstige Events
ATTACH;FMTTYPE=image/jpeg:https://www.michel-wein.de/wp-content/uploads/2024/11/5_Woiquiz-Michel-Bild-Helge.jpg
END:VEVENT
END:VCALENDAR