BEGIN:VCALENDAR
VERSION:2.0
PRODID:-//Weinhaus Michel - ECPv6.15.20//NONSGML v1.0//EN
CALSCALE:GREGORIAN
METHOD:PUBLISH
X-WR-CALNAME:Weinhaus Michel
X-ORIGINAL-URL:https://www.michel-wein.de
X-WR-CALDESC:Veranstaltungen für Weinhaus Michel
REFRESH-INTERVAL;VALUE=DURATION:PT1H
X-Robots-Tag:noindex
X-PUBLISHED-TTL:PT1H
BEGIN:VTIMEZONE
TZID:Europe/Berlin
BEGIN:DAYLIGHT
TZOFFSETFROM:+0100
TZOFFSETTO:+0200
TZNAME:CEST
DTSTART:20240331T010000
END:DAYLIGHT
BEGIN:STANDARD
TZOFFSETFROM:+0200
TZOFFSETTO:+0100
TZNAME:CET
DTSTART:20241027T010000
END:STANDARD
BEGIN:DAYLIGHT
TZOFFSETFROM:+0100
TZOFFSETTO:+0200
TZNAME:CEST
DTSTART:20250330T010000
END:DAYLIGHT
BEGIN:STANDARD
TZOFFSETFROM:+0200
TZOFFSETTO:+0100
TZNAME:CET
DTSTART:20251026T010000
END:STANDARD
BEGIN:DAYLIGHT
TZOFFSETFROM:+0100
TZOFFSETTO:+0200
TZNAME:CEST
DTSTART:20260329T010000
END:DAYLIGHT
BEGIN:STANDARD
TZOFFSETFROM:+0200
TZOFFSETTO:+0100
TZNAME:CET
DTSTART:20261025T010000
END:STANDARD
END:VTIMEZONE
BEGIN:VEVENT
DTSTART;TZID=Europe/Berlin:20250303T141100
DTEND;TZID=Europe/Berlin:20250304T040000
DTSTAMP:20260425T180842
CREATED:20241126T133518Z
LAST-MODIFIED:20250208T213415Z
UID:5136-1741011060-1741060800@www.michel-wein.de
SUMMARY:Rosenmontag - bei Michels geht die Post ab!
DESCRIPTION:Wir haben ab 14.11 Uhr geöffnet und nehmen über die Fastnachtstage keine Reservierungen an. Einfach vorbeikommen und feiern!
URL:https://www.michel-wein.de/weintermine/rosenmontag-bei-michels-geht-die-post-ab/
LOCATION:Weinhaus Michel\, Jakobsbergstr. 8\,\, Mainz\, 55116\, Deutschland
CATEGORIES:Sonstige Events
ATTACH;FMTTYPE=image/jpeg:https://www.michel-wein.de/wp-content/uploads/2023/10/Veranstaltung_Weinhaus-Michel_Fastnacht_Rosenmontag-scaled-e1732705525465.jpg
END:VEVENT
END:VCALENDAR