BEGIN:VCALENDAR
VERSION:2.0
PRODID:-//Weinhaus Michel - ECPv6.15.20//NONSGML v1.0//EN
CALSCALE:GREGORIAN
METHOD:PUBLISH
X-WR-CALNAME:Weinhaus Michel
X-ORIGINAL-URL:https://www.michel-wein.de
X-WR-CALDESC:Veranstaltungen für Weinhaus Michel
REFRESH-INTERVAL;VALUE=DURATION:PT1H
X-Robots-Tag:noindex
X-PUBLISHED-TTL:PT1H
BEGIN:VTIMEZONE
TZID:Europe/Berlin
BEGIN:DAYLIGHT
TZOFFSETFROM:+0100
TZOFFSETTO:+0200
TZNAME:CEST
DTSTART:20240331T010000
END:DAYLIGHT
BEGIN:STANDARD
TZOFFSETFROM:+0200
TZOFFSETTO:+0100
TZNAME:CET
DTSTART:20241027T010000
END:STANDARD
BEGIN:DAYLIGHT
TZOFFSETFROM:+0100
TZOFFSETTO:+0200
TZNAME:CEST
DTSTART:20250330T010000
END:DAYLIGHT
BEGIN:STANDARD
TZOFFSETFROM:+0200
TZOFFSETTO:+0100
TZNAME:CET
DTSTART:20251026T010000
END:STANDARD
BEGIN:DAYLIGHT
TZOFFSETFROM:+0100
TZOFFSETTO:+0200
TZNAME:CEST
DTSTART:20260329T010000
END:DAYLIGHT
BEGIN:STANDARD
TZOFFSETFROM:+0200
TZOFFSETTO:+0100
TZNAME:CET
DTSTART:20261025T010000
END:STANDARD
END:VTIMEZONE
BEGIN:VEVENT
DTSTART;TZID=Europe/Berlin:20250214T193000
DTEND;TZID=Europe/Berlin:20250214T220000
DTSTAMP:20260425T194458
CREATED:20240214T163341Z
LAST-MODIFIED:20241202T163026Z
UID:5150-1739561400-1739570400@www.michel-wein.de
SUMMARY:Konzert fürs Herz mit Martha McFly & Volker Racho
DESCRIPTION:Mit feinfühligen Harmonien schafft das Mainzer Duo „Martha McFly & Volker Racho“ eine magische Atmosphäre. Die beiden unterschiedlichen Stimmen verschmelzen zu einem Klangfluss\, der von folkigen Gitarrenmustern und sanften Klavierklängen begleitet wird. \nMit Kerzenlicht und Liedern aus sechs Jahrzehnten wärmen sie den Weinkeller am Valentinstag für euch auf. Songs von Sam Smith\, Radiohead oder Ocie Elliott gestalten sie in ihrem eigenen Stil. Also bringt euren Liebsten oder eure beste Freundin mit\, lauscht und genießt… \nKonzert: 18\,00 €
URL:https://www.michel-wein.de/weintermine/akustik-konzert-im-weinkeller-mit-martha-mcfly-volker-racho/
LOCATION:Weinhaus Michel\, Jakobsbergstr. 8\,\, Mainz\, 55116\, Deutschland
CATEGORIES:Konzert
ATTACH;FMTTYPE=image/jpeg:https://www.michel-wein.de/wp-content/uploads/2024/11/2_Martha-Valentinstag-scaled-e1732705744714.jpg
END:VEVENT
END:VCALENDAR