BEGIN:VCALENDAR
VERSION:2.0
PRODID:-//Weinhaus Michel - ECPv6.15.20//NONSGML v1.0//EN
CALSCALE:GREGORIAN
METHOD:PUBLISH
X-ORIGINAL-URL:https://www.michel-wein.de
X-WR-CALDESC:Veranstaltungen für Weinhaus Michel
REFRESH-INTERVAL;VALUE=DURATION:PT1H
X-Robots-Tag:noindex
X-PUBLISHED-TTL:PT1H
BEGIN:VTIMEZONE
TZID:Europe/Berlin
BEGIN:DAYLIGHT
TZOFFSETFROM:+0100
TZOFFSETTO:+0200
TZNAME:CEST
DTSTART:20230326T010000
END:DAYLIGHT
BEGIN:STANDARD
TZOFFSETFROM:+0200
TZOFFSETTO:+0100
TZNAME:CET
DTSTART:20231029T010000
END:STANDARD
BEGIN:DAYLIGHT
TZOFFSETFROM:+0100
TZOFFSETTO:+0200
TZNAME:CEST
DTSTART:20240331T010000
END:DAYLIGHT
BEGIN:STANDARD
TZOFFSETFROM:+0200
TZOFFSETTO:+0100
TZNAME:CET
DTSTART:20241027T010000
END:STANDARD
BEGIN:DAYLIGHT
TZOFFSETFROM:+0100
TZOFFSETTO:+0200
TZNAME:CEST
DTSTART:20250330T010000
END:DAYLIGHT
BEGIN:STANDARD
TZOFFSETFROM:+0200
TZOFFSETTO:+0100
TZNAME:CET
DTSTART:20251026T010000
END:STANDARD
END:VTIMEZONE
BEGIN:VEVENT
DTSTART;TZID=Europe/Berlin:20241010T180000
DTEND;TZID=Europe/Berlin:20241010T200000
DTSTAMP:20260426T022252
CREATED:20231010T160015Z
LAST-MODIFIED:20240611T123141Z
UID:5165-1728583200-1728590400@www.michel-wein.de
SUMMARY:"Entdeckt Mainz mit einem Schluck Genuss - Die perfekte Kombination aus Stadtführung und Weinverkostung!"
DESCRIPTION:Feiert mit uns das 40-jährige Jubiläum und erlebt unvergessliche Stadtführungen mit Best of Mainz und den Michels durch die Mainzer Altstadt zur Zitadelle. Taucht ein in die faszinierende Geschichte der Stadt\, während ihr an den schönsten Plätzen verweilt und spannende Anekdoten erfahrt. \nDoch das ist noch nicht alles! \nUnterwegs überraschen wir euch mit unseren „Weinpersönlichkeiten“. Ein kulturelles und kulinarisches Vergnügen für alle Genießer und Entdecker! \nDie Tour führt dann in unser Weinhaus wo wir weitere Weine verkosten und ihr den Abend gemütlich ausklingen lassen könnt. \nProst auf 40 Jahre Mainzer Weinhaus Michel! \nJetzt buchen unter: www.best-of-mainz.com/weintouren/ \nPreis: 49 €
URL:https://www.michel-wein.de/weintermine/entdeckt-mainz-mit-einem-schluck-genuss-die-perfekte-kombination-aus-stadtfuehrung-und-weinverkostung-4/
LOCATION:Stefanie Jung  | Best of Mainz Tour-Agentur\, Am Klostergarten 7\,\, Mainz\, 55116\, Deutschland
CATEGORIES:Weinprobe
ATTACH;FMTTYPE=image/jpeg:https://www.michel-wein.de/wp-content/uploads/2023/10/Veranstaltung_Weinhaus-Michel_Best-of-Mainz-Stadtfuehrung-scaled.jpg
END:VEVENT
END:VCALENDAR