BEGIN:VCALENDAR
VERSION:2.0
PRODID:-//Weinhaus Michel - ECPv6.15.20//NONSGML v1.0//EN
CALSCALE:GREGORIAN
METHOD:PUBLISH
X-WR-CALNAME:Weinhaus Michel
X-ORIGINAL-URL:https://www.michel-wein.de
X-WR-CALDESC:Veranstaltungen für Weinhaus Michel
REFRESH-INTERVAL;VALUE=DURATION:PT1H
X-Robots-Tag:noindex
X-PUBLISHED-TTL:PT1H
BEGIN:VTIMEZONE
TZID:Europe/Berlin
BEGIN:DAYLIGHT
TZOFFSETFROM:+0100
TZOFFSETTO:+0200
TZNAME:CEST
DTSTART:20230326T010000
END:DAYLIGHT
BEGIN:STANDARD
TZOFFSETFROM:+0200
TZOFFSETTO:+0100
TZNAME:CET
DTSTART:20231029T010000
END:STANDARD
BEGIN:DAYLIGHT
TZOFFSETFROM:+0100
TZOFFSETTO:+0200
TZNAME:CEST
DTSTART:20240331T010000
END:DAYLIGHT
BEGIN:STANDARD
TZOFFSETFROM:+0200
TZOFFSETTO:+0100
TZNAME:CET
DTSTART:20241027T010000
END:STANDARD
BEGIN:DAYLIGHT
TZOFFSETFROM:+0100
TZOFFSETTO:+0200
TZNAME:CEST
DTSTART:20250330T010000
END:DAYLIGHT
BEGIN:STANDARD
TZOFFSETFROM:+0200
TZOFFSETTO:+0100
TZNAME:CET
DTSTART:20251026T010000
END:STANDARD
END:VTIMEZONE
BEGIN:VEVENT
DTSTART;TZID=Europe/Berlin:20240927T193000
DTEND;TZID=Europe/Berlin:20240927T220000
DTSTAMP:20260426T040347
CREATED:20230927T170019Z
LAST-MODIFIED:20240611T123014Z
UID:5155-1727465400-1727474400@www.michel-wein.de
SUMMARY:Die schönsten Meenzer Gassenhauer im Keller für Kenner
DESCRIPTION:Oliver Mager – immer 2x\, weil’s so mainzigartig ist! \nOliver Mager singt seine beliebten Mainz-Lieder und Songs\, die sich rund um das Leben drehen. Von der ersten Minute an singen alle Gäste begeistert seine Ohrwürmer und schunkeln \nbis in die Zugaben. En gude Schobbe Woi und Olivers Lieder\, mehr braucht ein guter Abend nicht. \nwww.oliver-mager.de \nEintritt: 25 €
URL:https://www.michel-wein.de/weintermine/die-schoensten-meenzer-gassenhauer-im-keller-fuer-kenner-4/
LOCATION:Weinhaus Michel\, Jakobsbergstr. 8\,\, Mainz\, 55116\, Deutschland
CATEGORIES:Konzert
ATTACH;FMTTYPE=image/jpeg:https://www.michel-wein.de/wp-content/uploads/2023/10/Veranstaltung_Weinhaus-Michel_Oli-Mager-scaled-e1754597474543.jpg
END:VEVENT
END:VCALENDAR